BEGIN:VCALENDAR
VERSION:2.0
PRODID:-//wp-events-plugin.com//7.2.3.1//EN
BEGIN:VEVENT
UID:56@stadslandbouwvanruytenburch.nl
DTSTART;TZID=Europe/Amsterdam:20260516T113000
DTEND;TZID=Europe/Amsterdam:20260516T123000
DTSTAMP:20260221T075405Z
URL:https://stadslandbouwvanruytenburch.nl/agenda/start-lessen-voor-kleute
 rs/
SUMMARY:Start lessen Kleuters op tuinavontuur
DESCRIPTION:Op 16 mei is de eerste zaterdagochtend les voor kleuters in de 
 Kindertuinen aan de Hofsingel. De lessen worden gegeven door Gonny Jungst 
 (Gonny in het groen). Binnenkort is er een flyer beschikbaar met meer info
 rmatie.\n\n\n\n\n\n\n\nKleuters: * maximaal 10 kleuters\; onder begeleidin
 g van Gonny en een vrijwilliger * zaterdagochtend 11:30 – 12:30 De lesse
 n worden op de volgende data gegeven: * 16 mei\, 30 mei\, 13 juni\, 27 jun
 i\, 11 juli\, 5 september\, 19 september\, 3 oktober en 31 oktober\nLeefti
 jd: 4 t/m 6 jaar. Bij vierjarige kinderen wordt in overleg bepaald of een 
 kind bij de peuters of kleuters wordt ingedeeld. \nKosten: U betaalt 1 be
 drag voor alle lessen (9 lessen) van begin tot eind! Totaal 27\,00 euro. (
 mocht dit een probleem zijn\, dan kan er iets geregeld worden)\n\n\n\nAlva
 st opgeven kan via een mail naar info@gonnyinhetgroen.nl.
ATTACH;FMTTYPE=image/jpeg:https://stadslandbouwvanruytenburch.nl/wp-conten
 t/uploads/2026/01/IMG-6913-rotated.jpg
CATEGORIES:Kindertuinen
END:VEVENT
BEGIN:VTIMEZONE
TZID:Europe/Amsterdam
X-LIC-LOCATION:Europe/Amsterdam
BEGIN:DAYLIGHT
DTSTART:20260329T030000
TZOFFSETFROM:+0100
TZOFFSETTO:+0200
TZNAME:CEST
END:DAYLIGHT
END:VTIMEZONE
END:VCALENDAR